<?xml version="1.0" encoding="UTF-8"?>
<Capabilities xmlns="http://www.opengis.net/wmts/1.0"
xmlns:ows="http://www.opengis.net/ows/1.1"
xmlns:xlink="http://www.w3.org/1999/xlink"
xmlns:xsi="http://www.w3.org/2001/XMLSchema-instance"
xmlns:gml="http://www.opengis.net/gml"
xsi:schemaLocation="http://www.opengis.net/wmts/1.0 http://schemas.opengis.net/wmts/1.0/wmtsGetCapabilities_response.xsd"
version="1.0.0">
<!-- Service Identification --> <ows:ServiceIdentification>
<ows:Title>Hosted_Wassertiefe_Kachel</ows:Title>
<ows:ServiceType>OGC WMTS</ows:ServiceType>
<ows:ServiceTypeVersion>1.0.0</ows:ServiceTypeVersion>
</ows:ServiceIdentification> <!-- Operations Metadata --> <ows:OperationsMetadata>
<ows:Operation name="GetCapabilities">
<ows:DCP>
<ows:HTTP>
<ows:Get xlink:href="https://www.arcgishostedserver.nrw.de/arcgis/rest/services/Hosted/Wassertiefe_Kachel/MapServer/WMTS/1.0.0/WMTSCapabilities.xml">
<ows:Constraint name="GetEncoding">
<ows:AllowedValues>
<ows:Value>RESTful</ows:Value>
</ows:AllowedValues>
</ows:Constraint>
</ows:Get>
<!-- add KVP binding in 10.1 -->
<ows:Get xlink:href="https://www.arcgishostedserver.nrw.de/arcgis/rest/services/Hosted/Wassertiefe_Kachel/MapServer/WMTS?">
<ows:Constraint name="GetEncoding">
<ows:AllowedValues>
<ows:Value>KVP</ows:Value>
</ows:AllowedValues>
</ows:Constraint>
</ows:Get>
</ows:HTTP>
</ows:DCP>
</ows:Operation>
<ows:Operation name="GetTile">
<ows:DCP>
<ows:HTTP>
<ows:Get xlink:href="https://www.arcgishostedserver.nrw.de/arcgis/rest/services/Hosted/Wassertiefe_Kachel/MapServer/WMTS/tile/1.0.0/">
<ows:Constraint name="GetEncoding">
<ows:AllowedValues>
<ows:Value>RESTful</ows:Value>
</ows:AllowedValues>
</ows:Constraint>
</ows:Get>
<ows:Get xlink:href="https://www.arcgishostedserver.nrw.de/arcgis/rest/services/Hosted/Wassertiefe_Kachel/MapServer/WMTS?">
<ows:Constraint name="GetEncoding">
<ows:AllowedValues>
<ows:Value>KVP</ows:Value>
</ows:AllowedValues>
</ows:Constraint>
</ows:Get>
</ows:HTTP>
</ows:DCP>
</ows:Operation>
</ows:OperationsMetadata> <Contents>
<!--Layer--> <Layer>
<ows:Title>Hosted_Wassertiefe_Kachel</ows:Title> <ows:Identifier>Hosted_Wassertiefe_Kachel</ows:Identifier>
<ows:BoundingBox crs="urn:ogc:def:crs:EPSG::25832">
<ows:LowerCorner>316868.0 5587854.0</ows:LowerCorner>
<ows:UpperCorner>332701.0 5606194.0</ows:UpperCorner>
</ows:BoundingBox> <ows:WGS84BoundingBox crs="urn:ogc:def:crs:OGC:2:84">
<ows:LowerCorner>6.413323837375381 50.414139414255324</ows:LowerCorner>
<ows:UpperCorner>6.644961376772584 50.58365860764354</ows:UpperCorner>
</ows:WGS84BoundingBox>
<Style isDefault="true">
<ows:Title>Default Style</ows:Title>
<ows:Identifier>default</ows:Identifier>
</Style>
<Format>image/jpgpng</Format>
<TileMatrixSetLink>
<TileMatrixSet>default028mm</TileMatrixSet>
</TileMatrixSetLink>
<ResourceURL format="image/jpgpng" resourceType="tile" template="https://www.arcgishostedserver.nrw.de/arcgis/rest/services/Hosted/Wassertiefe_Kachel/MapServer/WMTS/tile/1.0.0/Hosted_Wassertiefe_Kachel/{Style}/{TileMatrixSet}/{TileMatrix}/{TileRow}/{TileCol}" />
</Layer> <!--TileMatrixSet-->
<TileMatrixSet>
<ows:Title>TileMatrix using 0.28mm</ows:Title>
<ows:Abstract>The tile matrix set that has scale values calculated based on the dpi defined by OGC specification (dpi assumes 0.28mm as the physical distance of a pixel).</ows:Abstract> <ows:Identifier>default028mm</ows:Identifier>
<ows:SupportedCRS>urn:ogc:def:crs:EPSG::25832</ows:SupportedCRS>
<TileMatrix>
<ows:Identifier>0</ows:Identifier>
<ScaleDenominator>2.7896104751492983E8</ScaleDenominator>
<TopLeftCorner>-9497963.942936342 9997963.942936342</TopLeftCorner> <TileWidth>256</TileWidth> <TileHeight>256</TileHeight>
<MatrixWidth>1</MatrixWidth> <MatrixHeight>1</MatrixHeight>
</TileMatrix>
<TileMatrix>
<ows:Identifier>1</ows:Identifier>
<ScaleDenominator>1.3948052375746492E8</ScaleDenominator>
<TopLeftCorner>-9497963.942936342 9997963.942936342</TopLeftCorner> <TileWidth>256</TileWidth> <TileHeight>256</TileHeight>
<MatrixWidth>1</MatrixWidth> <MatrixHeight>1</MatrixHeight>
</TileMatrix>
<TileMatrix>
<ows:Identifier>2</ows:Identifier>
<ScaleDenominator>6.974026187873246E7</ScaleDenominator>
<TopLeftCorner>-9497963.942936342 9997963.942936342</TopLeftCorner> <TileWidth>256</TileWidth> <TileHeight>256</TileHeight>
<MatrixWidth>2</MatrixWidth> <MatrixHeight>1</MatrixHeight>
</TileMatrix>
<TileMatrix>
<ows:Identifier>3</ows:Identifier>
<ScaleDenominator>3.487013093936623E7</ScaleDenominator>
<TopLeftCorner>-9497963.942936342 9997963.942936342</TopLeftCorner> <TileWidth>256</TileWidth> <TileHeight>256</TileHeight>
<MatrixWidth>4</MatrixWidth> <MatrixHeight>2</MatrixHeight>
</TileMatrix>
<TileMatrix>
<ows:Identifier>4</ows:Identifier>
<ScaleDenominator>1.7435065469683114E7</ScaleDenominator>
<TopLeftCorner>-9497963.942936342 9997963.942936342</TopLeftCorner> <TileWidth>256</TileWidth> <TileHeight>256</TileHeight>
<MatrixWidth>8</MatrixWidth> <MatrixHeight>4</MatrixHeight>
</TileMatrix>
<TileMatrix>
<ows:Identifier>5</ows:Identifier>
<ScaleDenominator>8717532.734841557</ScaleDenominator>
<TopLeftCorner>-9497963.942936342 9997963.942936342</TopLeftCorner> <TileWidth>256</TileWidth> <TileHeight>256</TileHeight>
<MatrixWidth>16</MatrixWidth> <MatrixHeight>8</MatrixHeight>
</TileMatrix>
<TileMatrix>
<ows:Identifier>6</ows:Identifier>
<ScaleDenominator>4358766.367420779</ScaleDenominator>
<TopLeftCorner>-9497963.942936342 9997963.942936342</TopLeftCorner> <TileWidth>256</TileWidth> <TileHeight>256</TileHeight>
<MatrixWidth>32</MatrixWidth> <MatrixHeight>15</MatrixHeight>
</TileMatrix>
<TileMatrix>
<ows:Identifier>7</ows:Identifier>
<ScaleDenominator>2179383.1837103893</ScaleDenominator>
<TopLeftCorner>-9497963.942936342 9997963.942936342</TopLeftCorner> <TileWidth>256</TileWidth> <TileHeight>256</TileHeight>
<MatrixWidth>63</MatrixWidth> <MatrixHeight>29</MatrixHeight>
</TileMatrix>
<TileMatrix>
<ows:Identifier>8</ows:Identifier>
<ScaleDenominator>1089691.5918551947</ScaleDenominator>
<TopLeftCorner>-9497963.942936342 9997963.942936342</TopLeftCorner> <TileWidth>256</TileWidth> <TileHeight>256</TileHeight>
<MatrixWidth>126</MatrixWidth> <MatrixHeight>57</MatrixHeight>
</TileMatrix>
<TileMatrix>
<ows:Identifier>9</ows:Identifier>
<ScaleDenominator>544845.7959275973</ScaleDenominator>
<TopLeftCorner>-9497963.942936342 9997963.942936342</TopLeftCorner> <TileWidth>256</TileWidth> <TileHeight>256</TileHeight>
<MatrixWidth>252</MatrixWidth> <MatrixHeight>113</MatrixHeight>
</TileMatrix>
<TileMatrix>
<ows:Identifier>10</ows:Identifier>
<ScaleDenominator>272422.89796379866</ScaleDenominator>
<TopLeftCorner>-9497963.942936342 9997963.942936342</TopLeftCorner> <TileWidth>256</TileWidth> <TileHeight>256</TileHeight>
<MatrixWidth>504</MatrixWidth> <MatrixHeight>226</MatrixHeight>
</TileMatrix>
<TileMatrix>
<ows:Identifier>11</ows:Identifier>
<ScaleDenominator>136211.44898189933</ScaleDenominator>
<TopLeftCorner>-9497963.942936342 9997963.942936342</TopLeftCorner> <TileWidth>256</TileWidth> <TileHeight>256</TileHeight>
<MatrixWidth>1007</MatrixWidth> <MatrixHeight>452</MatrixHeight>
</TileMatrix>
<TileMatrix>
<ows:Identifier>12</ows:Identifier>
<ScaleDenominator>68105.72449094967</ScaleDenominator>
<TopLeftCorner>-9497963.942936342 9997963.942936342</TopLeftCorner> <TileWidth>256</TileWidth> <TileHeight>256</TileHeight>
<MatrixWidth>2014</MatrixWidth> <MatrixHeight>904</MatrixHeight>
</TileMatrix>
<TileMatrix>
<ows:Identifier>13</ows:Identifier>
<ScaleDenominator>34052.86224547483</ScaleDenominator>
<TopLeftCorner>-9497963.942936342 9997963.942936342</TopLeftCorner> <TileWidth>256</TileWidth> <TileHeight>256</TileHeight>
<MatrixWidth>4028</MatrixWidth> <MatrixHeight>1807</MatrixHeight>
</TileMatrix>
<TileMatrix>
<ows:Identifier>14</ows:Identifier>
<ScaleDenominator>17026.431122737416</ScaleDenominator>
<TopLeftCorner>-9497963.942936342 9997963.942936342</TopLeftCorner> <TileWidth>256</TileWidth> <TileHeight>256</TileHeight>
<MatrixWidth>8055</MatrixWidth> <MatrixHeight>3614</MatrixHeight>
</TileMatrix>
<TileMatrix>
<ows:Identifier>15</ows:Identifier>
<ScaleDenominator>8513.215561368708</ScaleDenominator>
<TopLeftCorner>-9497963.942936342 9997963.942936342</TopLeftCorner> <TileWidth>256</TileWidth> <TileHeight>256</TileHeight>
<MatrixWidth>16110</MatrixWidth> <MatrixHeight>7227</MatrixHeight>
</TileMatrix>
<TileMatrix>
<ows:Identifier>16</ows:Identifier>
<ScaleDenominator>4256.607780684354</ScaleDenominator>
<TopLeftCorner>-9497963.942936342 9997963.942936342</TopLeftCorner> <TileWidth>256</TileWidth> <TileHeight>256</TileHeight>
<MatrixWidth>32220</MatrixWidth> <MatrixHeight>14454</MatrixHeight>
</TileMatrix>
<TileMatrix>
<ows:Identifier>17</ows:Identifier>
<ScaleDenominator>2128.303890342177</ScaleDenominator>
<TopLeftCorner>-9497963.942936342 9997963.942936342</TopLeftCorner> <TileWidth>256</TileWidth> <TileHeight>256</TileHeight>
<MatrixWidth>64440</MatrixWidth> <MatrixHeight>28908</MatrixHeight>
</TileMatrix>
<TileMatrix>
<ows:Identifier>18</ows:Identifier>
<ScaleDenominator>1064.1519451710885</ScaleDenominator>
<TopLeftCorner>-9497963.942936342 9997963.942936342</TopLeftCorner> <TileWidth>256</TileWidth> <TileHeight>256</TileHeight>
<MatrixWidth>128879</MatrixWidth> <MatrixHeight>57816</MatrixHeight>
</TileMatrix>
<TileMatrix>
<ows:Identifier>19</ows:Identifier>
<ScaleDenominator>532.0759725855443</ScaleDenominator>
<TopLeftCorner>-9497963.942936342 9997963.942936342</TopLeftCorner> <TileWidth>256</TileWidth> <TileHeight>256</TileHeight>
<MatrixWidth>257758</MatrixWidth> <MatrixHeight>115632</MatrixHeight>
</TileMatrix>
<TileMatrix>
<ows:Identifier>20</ows:Identifier>
<ScaleDenominator>266.03798629277213</ScaleDenominator>
<TopLeftCorner>-9497963.942936342 9997963.942936342</TopLeftCorner> <TileWidth>256</TileWidth> <TileHeight>256</TileHeight>
<MatrixWidth>515515</MatrixWidth> <MatrixHeight>231264</MatrixHeight>
</TileMatrix>
<TileMatrix>
<ows:Identifier>21</ows:Identifier>
<ScaleDenominator>133.01899314638607</ScaleDenominator>
<TopLeftCorner>-9497963.942936342 9997963.942936342</TopLeftCorner> <TileWidth>256</TileWidth> <TileHeight>256</TileHeight>
<MatrixWidth>1031030</MatrixWidth> <MatrixHeight>462528</MatrixHeight>
</TileMatrix>
<TileMatrix>
<ows:Identifier>22</ows:Identifier>
<ScaleDenominator>66.50949657319303</ScaleDenominator>
<TopLeftCorner>-9497963.942936342 9997963.942936342</TopLeftCorner> <TileWidth>256</TileWidth> <TileHeight>256</TileHeight>
<MatrixWidth>2062060</MatrixWidth> <MatrixHeight>925056</MatrixHeight>
</TileMatrix>
<TileMatrix>
<ows:Identifier>23</ows:Identifier>
<ScaleDenominator>33.25474828659652</ScaleDenominator>
<TopLeftCorner>-9497963.942936342 9997963.942936342</TopLeftCorner> <TileWidth>256</TileWidth> <TileHeight>256</TileHeight>
<MatrixWidth>4124120</MatrixWidth> <MatrixHeight>1850111</MatrixHeight>
</TileMatrix>
</TileMatrixSet>
</Contents>
<ServiceMetadataURL xlink:href="https://www.arcgishostedserver.nrw.de/arcgis/rest/services/Hosted/Wassertiefe_Kachel/MapServer/WMTS/1.0.0/WMTSCapabilities.xml" /> </Capabilities>
