View In:
ArcGIS JavaScript
ArcGIS Online Map Viewer
ArcGIS Earth
ArcGIS Pro
Service Description:
Map Name: PkW Erreichbarkeiten NEU NEU
Legend
All Layers and Tables
Layers:
Description:
Service Item Id: 4fe682d192cd4acabc9db7b9cc5d17ee
Copyright Text:
Spatial Reference:
25832
(25832)
LatestVCSWkid(0)
Single Fused Map Cache: true
Tile Info:
- Height: 256.0
- Width: 256.0
- DPI: 96.0
-
Levels of Detail: 16
-
Level ID: 0
[ Start Tile, End Tile ]
- Resolution: 4891.979594210455
- Scale: 1.84892977372409E7
-
Level ID: 4
[ Start Tile, End Tile ]
- Resolution: 305.7481131407048
- Scale: 1155581.10857755
-
Level ID: 5
[ Start Tile, End Tile ]
- Resolution: 152.8740565703525
- Scale: 577790.554288778
-
Level ID: 6
[ Start Tile, End Tile ]
- Resolution: 76.43702828517624
- Scale: 288895.277144389
-
Level ID: 7
[ Start Tile, End Tile ]
- Resolution: 38.21851414258813
- Scale: 144447.638572195
-
Level ID: 8
[ Start Tile, End Tile ]
- Resolution: 19.10925707129406
- Scale: 72223.8192860973
-
Level ID: 9
[ Start Tile, End Tile ]
- Resolution: 9.554628535647032
- Scale: 36111.9096430486
-
Level ID: 10
[ Start Tile, End Tile ]
- Resolution: 4.777314267823516
- Scale: 18055.9548215243
-
Level ID: 11
[ Start Tile, End Tile ]
- Resolution: 2.388657133911758
- Scale: 9027.97741076216
-
Level ID: 12
[ Start Tile, End Tile ]
- Resolution: 1.194328566955879
- Scale: 4513.98870538108
-
Level ID: 13
[ Start Tile, End Tile ]
- Resolution: 0.5971642834779395
- Scale: 2256.99435269054
-
Level ID: 14
[ Start Tile, End Tile ]
- Resolution: 0.29858214173896974
- Scale: 1128.49717634527
-
Level ID: 15
[ Start Tile, End Tile ]
- Resolution: 0.14929107086948487
- Scale: 564.248588172636
- Format: Mixed
- Compression Quality: 75.0
- Origin: X: -46133.17
Y: 6301219.54
- Spatial Reference: 25832
(25832)
LatestVCSWkid(0)
Initial Extent:
XMin: 179442.98966265036
YMin: 5571786.851294829
XMax: 595152.6518490608
YMax: 5819427.154259283
Spatial Reference: 25832
(25832)
LatestVCSWkid(0)
Full Extent:
XMin: 278199.94706581073
YMin: 5577172.859170973
XMax: 534121.6616619601
YMax: 5820973.27966803
Spatial Reference: 25832
(25832)
LatestVCSWkid(0)
Units: esriMeters
Supported Image Format Types: PNG32,PNG24,PNG,JPG,DIB,TIFF,EMF,PS,PDF,GIF,SVG,SVGZ,BMP
Document Info:
Title: Karte3
Author:
Comments:
Subject:
Category:
Keywords:
AntialiasingMode: Fast
TextAntialiasingMode: Force
Supports Dynamic Layers: false
MaxRecordCount: 1000
MaxSelectionCount: 0
MaxImageHeight: 4096
MaxImageWidth: 4096
Supported Query Formats: JSON, geoJSON, PBF
Supports Query Data Elements: true
Min Scale: 9244648.86862046
Max Scale: 18055.9548215243
Supports Datum Transformation: true
Child Resources:
Info
Supported Operations:
QueryLegends
Return Updates