View In:
ArcGIS JavaScript
ArcGIS Online Map Viewer
ArcGIS Earth
ArcGIS Pro
Service Description:
Map Name: Karte
Legend
All Layers and Tables
Layers:
Description:
Service Item Id: 81c0bb79bc064abaa2ca4c5b8937f1ee
Copyright Text:
Spatial Reference:
25832
(25832)
LatestVCSWkid(0)
Single Fused Map Cache: true
Tile Info:
- Height: 256
- Width: 256
- DPI: 96
-
Levels of Detail: 16
-
Level ID: 0
[ Start Tile, End Tile ]
- Resolution: 4891.979594210455
- Scale: 1.84892977372409E7
-
Level ID: 4
[ Start Tile, End Tile ]
- Resolution: 305.7481131407048
- Scale: 1155581.10857755
-
Level ID: 5
[ Start Tile, End Tile ]
- Resolution: 152.8740565703525
- Scale: 577790.554288778
-
Level ID: 6
[ Start Tile, End Tile ]
- Resolution: 76.43702828517624
- Scale: 288895.277144389
-
Level ID: 7
[ Start Tile, End Tile ]
- Resolution: 38.21851414258813
- Scale: 144447.638572195
-
Level ID: 8
[ Start Tile, End Tile ]
- Resolution: 19.10925707129406
- Scale: 72223.8192860973
-
Level ID: 9
[ Start Tile, End Tile ]
- Resolution: 9.554628535647032
- Scale: 36111.9096430486
-
Level ID: 10
[ Start Tile, End Tile ]
- Resolution: 4.777314267823516
- Scale: 18055.9548215243
-
Level ID: 11
[ Start Tile, End Tile ]
- Resolution: 2.388657133911758
- Scale: 9027.97741076216
-
Level ID: 12
[ Start Tile, End Tile ]
- Resolution: 1.194328566955879
- Scale: 4513.98870538108
-
Level ID: 13
[ Start Tile, End Tile ]
- Resolution: 0.5971642834779395
- Scale: 2256.99435269054
-
Level ID: 14
[ Start Tile, End Tile ]
- Resolution: 0.29858214173896974
- Scale: 1128.49717634527
-
Level ID: 15
[ Start Tile, End Tile ]
- Resolution: 0.14929107086948487
- Scale: 564.248588172636
- Format: Mixed
- Compression Quality: 80.0
- Origin: X: -46133.17
Y: 6301219.54
- Spatial Reference: 25832
(25832)
LatestVCSWkid(0)
Storage Info:
- Storage Format: esriMapCacheStorageModeCompactV2
- Packet Size: 128
Initial Extent:
XMin: 361344.4215310398
YMin: 5608151.701237016
XMax: 361870.21502969234
YMax: 5608655.527621844
Spatial Reference: 25832
(25832)
LatestVCSWkid(0)
Full Extent:
XMin: 351299.0
YMin: 5605399.0
XMax: 363101.0
YMax: 5616801.0
Spatial Reference: 25832
(25832)
LatestVCSWkid(0)
Units: esriMeters
Supported Image Format Types: PNG32,PNG24,PNG,JPG,DIB,TIFF,EMF,PS,PDF,GIF,SVG,SVGZ,BMP
Document Info:
Title: Karte
Author:
Comments:
Subject:
Category:
Keywords:
AntialiasingMode: None
TextAntialiasingMode: Force
Supports Dynamic Layers: false
MaxRecordCount: 1000
MaxImageHeight: 4096
MaxImageWidth: 4096
Supported Query Formats: JSON, geoJSON, PBF
Supports Query Data Elements: true
Min Scale: 4622324
Max Scale: 230
Min LOD: 2
Max LOD: 15
Supports Datum Transformation: true
Child Resources:
Info
Supported Operations:
QueryLegends
Return Updates